BEGIN:VCALENDAR
VERSION:2.0
PRODID:-//District 57 Toastmasters - ECPv6.15.16//NONSGML v1.0//EN
CALSCALE:GREGORIAN
METHOD:PUBLISH
X-WR-CALNAME:District 57 Toastmasters
X-ORIGINAL-URL:https://d57tm.org
X-WR-CALDESC:Events for District 57 Toastmasters
REFRESH-INTERVAL;VALUE=DURATION:PT1H
X-Robots-Tag:noindex
X-PUBLISHED-TTL:PT1H
BEGIN:VTIMEZONE
TZID:America/Los_Angeles
BEGIN:DAYLIGHT
TZOFFSETFROM:-0800
TZOFFSETTO:-0700
TZNAME:PDT
DTSTART:20250309T100000
END:DAYLIGHT
BEGIN:STANDARD
TZOFFSETFROM:-0700
TZOFFSETTO:-0800
TZNAME:PST
DTSTART:20251102T090000
END:STANDARD
BEGIN:DAYLIGHT
TZOFFSETFROM:-0800
TZOFFSETTO:-0700
TZNAME:PDT
DTSTART:20260308T100000
END:DAYLIGHT
BEGIN:STANDARD
TZOFFSETFROM:-0700
TZOFFSETTO:-0800
TZNAME:PST
DTSTART:20261101T090000
END:STANDARD
BEGIN:DAYLIGHT
TZOFFSETFROM:-0800
TZOFFSETTO:-0700
TZNAME:PDT
DTSTART:20270314T100000
END:DAYLIGHT
BEGIN:STANDARD
TZOFFSETFROM:-0700
TZOFFSETTO:-0800
TZNAME:PST
DTSTART:20271107T090000
END:STANDARD
END:VTIMEZONE
BEGIN:VEVENT
DTSTART;TZID=America/Los_Angeles:20260430T070000
DTEND;TZID=America/Los_Angeles:20260430T083000
DTSTAMP:20260422T033241
CREATED:20260421T181723Z
LAST-MODIFIED:20260421T181723Z
UID:32658-1777532400-1777537800@d57tm.org
SUMMARY:Spring Into Toastmasters Open House
DESCRIPTION:Sunrise Toastmasters will be having a hybrid open house featuring in-person guest speaker  -Immediate Past District 57 Director Sally Philbin.  Attend in person or online.    RSVP at:  https://www.eventbrite.com/e/spring-into-toastmasters-tickets-1987940144486?aff=oddtdtcreator
URL:https://d57tm.org/event/spring-into-toastmasters-open-house
LOCATION:Golden State Lumber\, 1080 Burnett Ave\, Concord\, CA\, 94520\, United States
CATEGORIES:Club Events
ORGANIZER;CN="Susan Skiff":MAILTO:rosebudnp@att.net
END:VEVENT
END:VCALENDAR