BEGIN:VCALENDAR
VERSION:2.0
PRODID:-//District 57 Toastmasters - ECPv6.15.16//NONSGML v1.0//EN
CALSCALE:GREGORIAN
METHOD:PUBLISH
X-ORIGINAL-URL:https://d57tm.org
X-WR-CALDESC:Events for District 57 Toastmasters
REFRESH-INTERVAL;VALUE=DURATION:PT1H
X-Robots-Tag:noindex
X-PUBLISHED-TTL:PT1H
BEGIN:VTIMEZONE
TZID:America/Los_Angeles
BEGIN:DAYLIGHT
TZOFFSETFROM:-0800
TZOFFSETTO:-0700
TZNAME:PDT
DTSTART:20240310T100000
END:DAYLIGHT
BEGIN:STANDARD
TZOFFSETFROM:-0700
TZOFFSETTO:-0800
TZNAME:PST
DTSTART:20241103T090000
END:STANDARD
BEGIN:DAYLIGHT
TZOFFSETFROM:-0800
TZOFFSETTO:-0700
TZNAME:PDT
DTSTART:20250309T100000
END:DAYLIGHT
BEGIN:STANDARD
TZOFFSETFROM:-0700
TZOFFSETTO:-0800
TZNAME:PST
DTSTART:20251102T090000
END:STANDARD
BEGIN:DAYLIGHT
TZOFFSETFROM:-0800
TZOFFSETTO:-0700
TZNAME:PDT
DTSTART:20260308T100000
END:DAYLIGHT
BEGIN:STANDARD
TZOFFSETFROM:-0700
TZOFFSETTO:-0800
TZNAME:PST
DTSTART:20261101T090000
END:STANDARD
END:VTIMEZONE
BEGIN:VEVENT
DTSTART;TZID=America/Los_Angeles:20251011T100000
DTEND;TZID=America/Los_Angeles:20251011T120000
DTSTAMP:20260422T020658
CREATED:20250922T040708Z
LAST-MODIFIED:20250922T040708Z
UID:10002369-1760176800-1760184000@d57tm.org
SUMMARY:District Executive Committee Meeting (DECM)
DESCRIPTION:District Executive Committee Meetings (DECM) are held monthly on the 2nd Saturday\, from 10:00 a.m. to 12:00 p.m.\, via Zoom The District 57 Trio will share information on the district’s current standing\, initiatives\, programs\, and incentives that support member\, club\, and District growth. \n\nIncentives\nClub Growth\nProgram Quality\nFinance\nPR News and information- and more!\n\nHybrid  \nThe District Executive Committee (DEC) comprises the District Director\, Program Quality Director\, Club Growth Director\, District Public Relations Manager\, District Administration Manager\, District Finance Manager\, Division Directors\, Area Directors\, and Immediate Past District Director.  All DEC members are encouraged to attend each meeting. Club Officers are also welcome to attend. (See Article XI(a) of the administrative bylaws https://www.toastmasters.org/leadership-central/governing-documents#ArticleXICommittees332 )
URL:https://d57tm.org/event/district-executive-committee-meeting-decm-4/2025-10-11
CATEGORIES:DECM,For Club Officers,For District Officers
LOCATION:https://us06web.zoom.us/j/83627796549?pwd=uTQzrnitEUNJOtF508dXI6KVBOF2S5.1
END:VEVENT
BEGIN:VEVENT
DTSTART;TZID=America/Los_Angeles:20250825T190000
DTEND;TZID=America/Los_Angeles:20250825T210000
DTSTAMP:20260422T020658
CREATED:20250714T042058Z
LAST-MODIFIED:20250725T233535Z
UID:10002379-1756148400-1756155600@d57tm.org
SUMMARY:Club Officer Makeup Training (Sponsored by Division C)
DESCRIPTION:Received an officer position in your club for the new year?  Did you miss the June TLI? \nAttend this session to learn how to do it! \nWhen: August 25\, 2025 –  7:00pm – 9:00pm \nWhere: Zoom! (Register to get link)
URL:https://d57tm.org/event/club-officer-makeup-training-sponsored-by-division-c
CATEGORIES:For Club Officers,Training
LOCATION:https://d57tm.org/event/club-officer-makeup-training-sponsored-by-division-c
END:VEVENT
BEGIN:VEVENT
DTSTART;TZID=America/Los_Angeles:20250802T113000
DTEND;TZID=America/Los_Angeles:20250802T140000
DTSTAMP:20260422T020658
CREATED:20250621T160325Z
LAST-MODIFIED:20250725T233504Z
UID:10002275-1754134200-1754143200@d57tm.org
SUMMARY:End of Year Celebration and Installation
DESCRIPTION:Come celebrate our year ending June 30\, 2025\, and welcome in the 2025-2026 District Leadership Team. \nCome on out\, whether in person or online (if you come in person there will be food and added camaraderie) to recognize the accomplishments of some outstanding Toastmasters. We will be recognizing DTMs\, OTMAs\, and Triple Crowns not recognized at the Conference. We will be announcing Division Director of the Year\, Club President of the Year and Outstanding Toastmaster of the Year. The theme of the evening will be “Western Days”. Come in appropriate dress… or not. It is most important that you come. \nA bit different this year is that the event will be a daytime affair with a buffet brunch\, scheduled for 11:30 am to 2:00 pm. \nLocation: Hybrid – Albany Community Center\, 1249 Marin Ave\, Albany\, CA 94706
URL:https://d57tm.org/event/end-of-year-celebration-and-installation
CATEGORIES:For Club Officers,For District Officers
ATTACH;FMTTYPE=image/webp:https://d57tm.org/wp-content/uploads/2025/06/2025-EndOfPartyFlyer.landscape.webp
LOCATION:https://d57tm.org/event/end-of-year-celebration-and-installation
END:VEVENT
BEGIN:VEVENT
DTSTART;TZID=America/Los_Angeles:20250727T090000
DTEND;TZID=America/Los_Angeles:20250727T110000
DTSTAMP:20260422T020658
CREATED:20250713T005104Z
LAST-MODIFIED:20250725T233232Z
UID:10002375-1753606800-1753614000@d57tm.org
SUMMARY:Club Officer Makeup Training (Sponsored by Division A and E) Session 1
DESCRIPTION:Received an officer position in your club for the new year?  Did you miss the June TLI? \nAttend this session to learn how to do it! \nWhen: July 27th\, 2025 –  9:00am – 11:00am \nWhere: Zoom! (Register to get link)
URL:https://d57tm.org/event/club-officer-makeup-training-sponsored-by-division-a-division-e
CATEGORIES:For Club Officers,Training
LOCATION:https://d57tm.org/event/club-officer-makeup-training-sponsored-by-division-a-division-e
END:VEVENT
BEGIN:VEVENT
DTSTART;TZID=America/Los_Angeles:20250713T150000
DTEND;TZID=America/Los_Angeles:20250713T190000
DTSTAMP:20260422T020658
CREATED:20250703T201957Z
LAST-MODIFIED:20250710T213744Z
UID:10002281-1752418800-1752433200@d57tm.org
SUMMARY:Division and Area Director Training (Session #2) Updated
DESCRIPTION:Invitations have been sent to the local Area and Division Directors attending\, but if you would like to attend\, please contact the organizer (Jeff Young) via the website.
URL:https://d57tm.org/event/division-and-area-director-training-session-2
CATEGORIES:For District Officers,Training
LOCATION:https://us06web.zoom.us/j/87934208270?pwd=afT5AUWdUsXDqkJAMXE3HHS7xMOK9r.1
END:VEVENT
BEGIN:VEVENT
DTSTART;TZID=America/Los_Angeles:20250712T100000
DTEND;TZID=America/Los_Angeles:20250712T120000
DTSTAMP:20260422T020658
CREATED:20250711T194853Z
LAST-MODIFIED:20250711T195529Z
UID:10001426-1752314400-1752321600@d57tm.org
SUMMARY:District Executive Committee Meeting (DECM)
DESCRIPTION:District Executive Committee Meetings (DECM) are held monthly on the 2nd Saturday\, from 10:00 a.m. to 12:00 p.m.\, via Zoom and in person. The District 57 Trio will share information on the district’s current standing\, initiatives\, programs\, and incentives that support member\, club\, and District growth. \n\nIncentives\nClub Growth\nProgram Quality\nFinance\nPR News and information- and more!\n\nDECM ZOOM LINK \nIn Person: The Lafayette Library and Learning Center\, 3491 Mt Diablo Blvd\, Lafayette\, CA 94549 \nThe District Executive Committee (DEC) comprises the District Director\, Program Quality Director\, Club Growth Director\, District Public Relations Manager\, District Administration Manager\, District Finance Manager\, Division Directors\, Area Directors\, and Immediate Past District Director.  All DEC members are encouraged to attend each meeting. (See Article XI(a) of the administrative bylaws https://www.toastmasters.org/leadership-central/governing-documents#ArticleXICommittees332 )
URL:https://d57tm.org/event/district-executive-committee-meeting-decm-3-2-2
CATEGORIES:DECM
LOCATION: https://us06web.zoom.us/j/88572943546?pwd=yW6rhGsRIMxP0cj72IaHuiaqsPpnPj.1
END:VEVENT
BEGIN:VEVENT
DTSTART;VALUE=DATE:20250704
DTEND;VALUE=DATE:20250705
DTSTAMP:20260422T020658
CREATED:20241222T003154Z
LAST-MODIFIED:20241222T003154Z
UID:10001508-1751587200-1751673599@d57tm.org
SUMMARY:Independence Day
DESCRIPTION:Observed Holiday – No Events Scheduled
URL:https://d57tm.org/event/independence-day
CATEGORIES:Holiday
END:VEVENT
BEGIN:VEVENT
DTSTART;VALUE=DATE:20250619
DTEND;VALUE=DATE:20250620
DTSTAMP:20260422T020658
CREATED:20241222T003107Z
LAST-MODIFIED:20241222T003107Z
UID:10001507-1750291200-1750377599@d57tm.org
SUMMARY:Juneteenth
DESCRIPTION:Observed Holiday – No Events Scheduled
URL:https://d57tm.org/event/juneteenth
CATEGORIES:Holiday
END:VEVENT
BEGIN:VEVENT
DTSTART;VALUE=DATE:20250615
DTEND;VALUE=DATE:20250616
DTSTAMP:20260422T020658
CREATED:20241222T003031Z
LAST-MODIFIED:20241222T003031Z
UID:10001506-1749945600-1750031999@d57tm.org
SUMMARY:Father's Day
DESCRIPTION:Observed Holiday – No Events Scheduled
URL:https://d57tm.org/event/fathers-day
CATEGORIES:Holiday
END:VEVENT
BEGIN:VEVENT
DTSTART;TZID=America/Los_Angeles:20250614T090000
DTEND;TZID=America/Los_Angeles:20250614T120000
DTSTAMP:20260422T020658
CREATED:20250501T151456Z
LAST-MODIFIED:20250501T151456Z
UID:10001424-1749891600-1749902400@d57tm.org
SUMMARY:District Executive Committee Meeting (DECM)
DESCRIPTION:District Executive Committee Meetings (DECM) are held monthly on the 2nd Saturday\, from 9:00 a.m. to 12:00 p.m.\, via Zoom and in person. The District 57 Trio will share information on the district’s current standing\, initiatives\, programs\, and incentives that support member\, club\, and District growth. \n\nIncentives\nClub Growth\nProgram Quality\nFinance\nPR News and information- and more!\n\nDECM ZOOM LINK \nIn Person: The Lafayette Library and Learning Center\, 3491 Mt Diablo Blvd\, Lafayette\, CA 94549 \nThe District Executive Committee (DEC) comprises the District Director\, Program Quality Director\, Club Growth Director\, District Public Relations Manager\, District Administration Manager\, District Finance Manager\, Division Directors\, Area Directors\, and Immediate Past District Director.  All DEC members are encouraged to attend each meeting. Club Officers are also welcome to attend. (See Article XI(a) of the administrative bylaws https://www.toastmasters.org/leadership-central/governing-documents#ArticleXICommittees332 )
URL:https://d57tm.org/event/district-executive-committee-meeting-decm-3
CATEGORIES:DECM
END:VEVENT
BEGIN:VEVENT
DTSTART;VALUE=DATE:20250526
DTEND;VALUE=DATE:20250527
DTSTAMP:20260422T020658
CREATED:20241222T002953Z
LAST-MODIFIED:20241222T002953Z
UID:10001505-1748217600-1748303999@d57tm.org
SUMMARY:Memorial Day
DESCRIPTION:Observed Holiday – No Events Scheduled
URL:https://d57tm.org/event/memorial-day
CATEGORIES:Holiday
END:VEVENT
BEGIN:VEVENT
DTSTART;VALUE=DATE:20250511
DTEND;VALUE=DATE:20250512
DTSTAMP:20260422T020658
CREATED:20241222T002921Z
LAST-MODIFIED:20241222T002921Z
UID:10001504-1746921600-1747007999@d57tm.org
SUMMARY:Mother's Day
DESCRIPTION:Observed Holiday – No Events Scheduled
URL:https://d57tm.org/event/mothers-day
CATEGORIES:Holiday
END:VEVENT
BEGIN:VEVENT
DTSTART;VALUE=DATE:20250505
DTEND;VALUE=DATE:20250506
DTSTAMP:20260422T020658
CREATED:20241222T002839Z
LAST-MODIFIED:20241222T002839Z
UID:10001503-1746403200-1746489599@d57tm.org
SUMMARY:Buddha's Birthday
DESCRIPTION:Observed Holiday – No Events Scheduled
URL:https://d57tm.org/event/buddhas-birthday
CATEGORIES:Holiday
END:VEVENT
BEGIN:VEVENT
DTSTART;VALUE=DATE:20250420
DTEND;VALUE=DATE:20250421
DTSTAMP:20260422T020658
CREATED:20241222T002745Z
LAST-MODIFIED:20241222T002745Z
UID:10001502-1745107200-1745193599@d57tm.org
SUMMARY:Easter
DESCRIPTION:Observed Holiday – No Events Scheduled
URL:https://d57tm.org/event/easter
CATEGORIES:Holiday
END:VEVENT
BEGIN:VEVENT
DTSTART;VALUE=DATE:20250418
DTEND;VALUE=DATE:20250419
DTSTAMP:20260422T020658
CREATED:20241222T002715Z
LAST-MODIFIED:20241222T002715Z
UID:10001501-1744934400-1745020799@d57tm.org
SUMMARY:Good Friday
DESCRIPTION:Observed Holiday – No Events Scheduled
URL:https://d57tm.org/event/good-friday
CATEGORIES:Holiday
END:VEVENT
BEGIN:VEVENT
DTSTART;TZID=America/Los_Angeles:20250412T090000
DTEND;TZID=America/Los_Angeles:20250412T120000
DTSTAMP:20260422T020658
CREATED:20241221T232645Z
LAST-MODIFIED:20250207T015418Z
UID:10001423-1744448400-1744459200@d57tm.org
SUMMARY:District Executive Committee Meeting (DECM)
DESCRIPTION:District Executive Committee Meetings (DECM) are held monthly on the 2nd Saturday\, from 9:00 a.m. to 12:00 p.m.\, via Zoom and in person. The District 57 Trio will share information on the district’s current standing\, initiatives\, programs\, and incentives that support member\, club\, and District growth. \n\nIncentives\nClub Growth\nProgram Quality\nFinance\nPR News and information- and more!\n\nDECM ZOOM LINK \nIn Person: The Lafayette Library and Learning Center\, 3491 Mt Diablo Blvd\, Lafayette\, CA 94549 \nThe District Executive Committee (DEC) comprises the District Director\, Program Quality Director\, Club Growth Director\, District Public Relations Manager\, District Administration Manager\, District Finance Manager\, Division Directors\, Area Directors\, and Immediate Past District Director.  All DEC members are encouraged to attend each meeting. Club Officers are also welcome to attend. (See Article XI(a) of the administrative bylaws https://www.toastmasters.org/leadership-central/governing-documents#ArticleXICommittees332 )
URL:https://d57tm.org/event/district-executive-committee-meeting-decm/2025-04-12
CATEGORIES:DECM
END:VEVENT
BEGIN:VEVENT
DTSTART;VALUE=DATE:20250412
DTEND;VALUE=DATE:20250413
DTSTAMP:20260422T020658
CREATED:20241222T002633Z
LAST-MODIFIED:20241222T002633Z
UID:10001500-1744416000-1744502399@d57tm.org
SUMMARY:First Day of Passover
DESCRIPTION:Observed Holiday – No Events Scheduled
URL:https://d57tm.org/event/first-day-of-passover
CATEGORIES:Holiday
END:VEVENT
BEGIN:VEVENT
DTSTART;VALUE=DATE:20250329
DTEND;VALUE=DATE:20250330
DTSTAMP:20260422T020658
CREATED:20241222T002539Z
LAST-MODIFIED:20241222T002539Z
UID:10001499-1743206400-1743292799@d57tm.org
SUMMARY:Eid al-Fitr
DESCRIPTION:Observed Holiday – No Events Scheduled
URL:https://d57tm.org/event/eid-al-fitr
CATEGORIES:Holiday
END:VEVENT
BEGIN:VEVENT
DTSTART;VALUE=DATE:20250320
DTEND;VALUE=DATE:20250321
DTSTAMP:20260422T020658
CREATED:20241222T002431Z
LAST-MODIFIED:20241222T002431Z
UID:10001498-1742428800-1742515199@d57tm.org
SUMMARY:Nowruz
DESCRIPTION:Observed Holiday – No Events Scheduled
URL:https://d57tm.org/event/nowruz
CATEGORIES:Holiday
END:VEVENT
BEGIN:VEVENT
DTSTART;VALUE=DATE:20250317
DTEND;VALUE=DATE:20250318
DTSTAMP:20260422T020658
CREATED:20241222T002349Z
LAST-MODIFIED:20241222T002349Z
UID:10001497-1742169600-1742255999@d57tm.org
SUMMARY:St. Patrick’s Day
DESCRIPTION:Observed Holiday – No Events Scheduled
URL:https://d57tm.org/event/st-patricks-day
CATEGORIES:Holiday
END:VEVENT
BEGIN:VEVENT
DTSTART;TZID=America/Los_Angeles:20250308T090000
DTEND;TZID=America/Los_Angeles:20250308T120000
DTSTAMP:20260422T020658
CREATED:20241221T232645Z
LAST-MODIFIED:20250207T015418Z
UID:10001422-1741424400-1741435200@d57tm.org
SUMMARY:District Executive Committee Meeting (DECM)
DESCRIPTION:District Executive Committee Meetings (DECM) are held monthly on the 2nd Saturday\, from 9:00 a.m. to 12:00 p.m.\, via Zoom and in person. The District 57 Trio will share information on the district’s current standing\, initiatives\, programs\, and incentives that support member\, club\, and District growth. \n\nIncentives\nClub Growth\nProgram Quality\nFinance\nPR News and information- and more!\n\nDECM ZOOM LINK \nIn Person: The Lafayette Library and Learning Center\, 3491 Mt Diablo Blvd\, Lafayette\, CA 94549 \nThe District Executive Committee (DEC) comprises the District Director\, Program Quality Director\, Club Growth Director\, District Public Relations Manager\, District Administration Manager\, District Finance Manager\, Division Directors\, Area Directors\, and Immediate Past District Director.  All DEC members are encouraged to attend each meeting. Club Officers are also welcome to attend. (See Article XI(a) of the administrative bylaws https://www.toastmasters.org/leadership-central/governing-documents#ArticleXICommittees332 )
URL:https://d57tm.org/event/district-executive-committee-meeting-decm/2025-03-08
CATEGORIES:DECM
END:VEVENT
BEGIN:VEVENT
DTSTART;VALUE=DATE:20250228
DTEND;VALUE=DATE:20250301
DTSTAMP:20260422T020658
CREATED:20241222T002154Z
LAST-MODIFIED:20241222T002154Z
UID:10001496-1740700800-1740787199@d57tm.org
SUMMARY:Ramadan Begins
DESCRIPTION:Observed Holiday – No Events Scheduled
URL:https://d57tm.org/event/ramadan-begins
CATEGORIES:Holiday
END:VEVENT
BEGIN:VEVENT
DTSTART;TZID=America/Los_Angeles:20250224T183000
DTEND;TZID=America/Los_Angeles:20250224T203000
DTSTAMP:20260422T020658
CREATED:20241222T001440Z
LAST-MODIFIED:20250221T213045Z
UID:10001495-1740421800-1740429000@d57tm.org
SUMMARY:Division A/B Club Officer Makeup Training
DESCRIPTION:Are you a continuing or new club officer for the January – June 2025 period? Were you unable to attend the Toastmasters Leadership Institute in December? Here is your opportunity to get this training and move confidently into your leadership role. This is not to be missed.
URL:https://d57tm.org/event/make-up-club-officer-training
CATEGORIES:For Club Officers,Training
LOCATION:https://us06web.zoom.us/j/86476847623?pwd=6CNofkzmNcHFefnxuSi4brB30h7yAl.1
END:VEVENT
BEGIN:VEVENT
DTSTART;VALUE=DATE:20250217
DTEND;VALUE=DATE:20250218
DTSTAMP:20260422T020658
CREATED:20241222T000913Z
LAST-MODIFIED:20241222T000913Z
UID:10001493-1739750400-1739836799@d57tm.org
SUMMARY:US Presidents Day
DESCRIPTION:Observed Holiday – No Events Scheduled
URL:https://d57tm.org/event/us-presidents-day
CATEGORIES:Holiday
END:VEVENT
BEGIN:VEVENT
DTSTART;TZID=America/Los_Angeles:20250208T090000
DTEND;TZID=America/Los_Angeles:20250208T120000
DTSTAMP:20260422T020658
CREATED:20241221T232645Z
LAST-MODIFIED:20250207T015418Z
UID:10001421-1739005200-1739016000@d57tm.org
SUMMARY:District Executive Committee Meeting (DECM)
DESCRIPTION:District Executive Committee Meetings (DECM) are held monthly on the 2nd Saturday\, from 9:00 a.m. to 12:00 p.m.\, via Zoom and in person. The District 57 Trio will share information on the district’s current standing\, initiatives\, programs\, and incentives that support member\, club\, and District growth. \n\nIncentives\nClub Growth\nProgram Quality\nFinance\nPR News and information- and more!\n\nDECM ZOOM LINK \nIn Person: The Lafayette Library and Learning Center\, 3491 Mt Diablo Blvd\, Lafayette\, CA 94549 \nThe District Executive Committee (DEC) comprises the District Director\, Program Quality Director\, Club Growth Director\, District Public Relations Manager\, District Administration Manager\, District Finance Manager\, Division Directors\, Area Directors\, and Immediate Past District Director.  All DEC members are encouraged to attend each meeting. Club Officers are also welcome to attend. (See Article XI(a) of the administrative bylaws https://www.toastmasters.org/leadership-central/governing-documents#ArticleXICommittees332 )
URL:https://d57tm.org/event/district-executive-committee-meeting-decm/2025-02-08
CATEGORIES:DECM
END:VEVENT
BEGIN:VEVENT
DTSTART;TZID=America/Los_Angeles:20250203T180000
DTEND;TZID=America/Los_Angeles:20250203T200000
DTSTAMP:20260422T020658
CREATED:20241221T235328Z
LAST-MODIFIED:20250710T213809Z
UID:10001487-1738605600-1738612800@d57tm.org
SUMMARY:Contest Training Part 4
DESCRIPTION:Session 4 focuses on the In-Person Contest checklist: food\, paper agenda\, Chair and TMOD scripts\, certificates\, medals.
URL:https://d57tm.org/event/contest-training-part-4
CATEGORIES:Contest,Training
END:VEVENT
BEGIN:VEVENT
DTSTART;TZID=America/Los_Angeles:20250130T190000
DTEND;TZID=America/Los_Angeles:20250130T210000
DTSTAMP:20260422T020658
CREATED:20241221T234038Z
LAST-MODIFIED:20241231T023528Z
UID:10001486-1738263600-1738270800@d57tm.org
SUMMARY:Divisions E/F Club Officer Makeup Training
DESCRIPTION:Are you a continuing or new club officer for the January – June 2025 period? Were you unable to attend the Toastmasters Leadership Institute in December? Here is your opportunity to get this training and move confidently into your leadership role. This is not to be missed. \nRegister for this session.
URL:https://d57tm.org/event/divisions-e-f-club-officer-makeup-training
CATEGORIES:For Club Officers,Training
END:VEVENT
BEGIN:VEVENT
DTSTART;TZID=America/Los_Angeles:20250125T093000
DTEND;TZID=America/Los_Angeles:20250125T123000
DTSTAMP:20260422T020658
CREATED:20241221T233924Z
LAST-MODIFIED:20250107T231406Z
UID:10001485-1737797400-1737808200@d57tm.org
SUMMARY:Divisions C & D Club Officer Makeup Training
DESCRIPTION:Are you a continuing or new club officer for the January – June 2025 period? Were you unable to attend the Toastmasters Leadership Institute in December? Here is your opportunity to get this training and move confidently into your leadership role. This is not to be missed. \nRegister for this session. \nLink for session provided here
URL:https://d57tm.org/event/club-officer-makeup-training
CATEGORIES:For Club Officers,Training
END:VEVENT
BEGIN:VEVENT
DTSTART;VALUE=DATE:20250120
DTEND;VALUE=DATE:20250121
DTSTAMP:20260422T020658
CREATED:20241221T233010Z
LAST-MODIFIED:20241222T000251Z
UID:10001481-1737331200-1737417599@d57tm.org
SUMMARY:Martin Luther King Jr. Day
DESCRIPTION:Observed Holiday – No Events Scheduled
URL:https://d57tm.org/event/martin-luther-king-day
CATEGORIES:Holiday
END:VEVENT
BEGIN:VEVENT
DTSTART;TZID=America/Los_Angeles:20250118T130000
DTEND;TZID=America/Los_Angeles:20250118T150000
DTSTAMP:20260422T020658
CREATED:20241221T233713Z
LAST-MODIFIED:20250112T032821Z
UID:10001484-1737205200-1737212400@d57tm.org
SUMMARY:Unlock Your Potential: Workshop with Luisa Montalvo\, 2024 World Champion of Public Speaking
DESCRIPTION:District 57 Toastmasters is honored to welcome Luisa Montalvo\, the 2024 Toastmasters International World Champion of Public Speaking\, for an exclusive virtual workshop on Saturday\, January 11th\, 2025\, from 2 PM to 4 PM PST.\n\nAs we gear up for contest season\, this workshop offers a unique opportunity to refine your speaking and evaluation skills under the guidance of a world-class communicator. Luisa’s proven expertise and engaging style will empower you with tools to excel in any speaking environment—whether you’re a contestant\, an evaluator\, or a judge.\n\nWhat to Expect\n\nThis interactive session is packed with actionable insights and hands-on practice:\n1.    Speech and Evaluation Practice:\n\nWatch two speakers deliver prepared speeches and two evaluators provide their feedback\nGain insights as Luisa shares her expert tips to help both speakers and evaluators elevate their skills.\n\n2.    Transformative Follow-Up:\n\n Witness real growth as the speakers revise and re-deliver their speeches using the feedback provided.\nEvaluators will also refine their critiques\, incorporating Luisa’s guidance for a higher level of impact.\n\n3.    Judging Insights:\n\nLearn what judges look for in speeches and evaluations to improve your skills as a judge or contestant.\n\nWhy Attend?\nWhether you’re preparing for contest season or looking to enhance your communication skills\, this workshop is an unmissable opportunity to learn from the best. Luisa Montalvo’s achievements demonstrate her deep understanding of storytelling\, connection\, and impactful feedback.\n\nLocation: Zoom link provided upon registration.\n\nRegister for the talk HERE
URL:https://d57tm.org/event/unlock-your-potential-workshop-with-luisa-montalvo-2024-world-champion-of-public-speaking
CATEGORIES:Training
END:VEVENT
END:VCALENDAR