BEGIN:VCALENDAR
VERSION:2.0
PRODID:-//District 57 Toastmasters - ECPv6.15.16//NONSGML v1.0//EN
CALSCALE:GREGORIAN
METHOD:PUBLISH
X-WR-CALNAME:District 57 Toastmasters
X-ORIGINAL-URL:https://d57tm.org
X-WR-CALDESC:Events for District 57 Toastmasters
REFRESH-INTERVAL;VALUE=DURATION:PT1H
X-Robots-Tag:noindex
X-PUBLISHED-TTL:PT1H
BEGIN:VTIMEZONE
TZID:America/Los_Angeles
BEGIN:DAYLIGHT
TZOFFSETFROM:-0800
TZOFFSETTO:-0700
TZNAME:PDT
DTSTART:20250309T100000
END:DAYLIGHT
BEGIN:STANDARD
TZOFFSETFROM:-0700
TZOFFSETTO:-0800
TZNAME:PST
DTSTART:20251102T090000
END:STANDARD
BEGIN:DAYLIGHT
TZOFFSETFROM:-0800
TZOFFSETTO:-0700
TZNAME:PDT
DTSTART:20260308T100000
END:DAYLIGHT
BEGIN:STANDARD
TZOFFSETFROM:-0700
TZOFFSETTO:-0800
TZNAME:PST
DTSTART:20261101T090000
END:STANDARD
BEGIN:DAYLIGHT
TZOFFSETFROM:-0800
TZOFFSETTO:-0700
TZNAME:PDT
DTSTART:20270314T100000
END:DAYLIGHT
BEGIN:STANDARD
TZOFFSETFROM:-0700
TZOFFSETTO:-0800
TZNAME:PST
DTSTART:20271107T090000
END:STANDARD
END:VTIMEZONE
BEGIN:VEVENT
DTSTART;TZID=America/Los_Angeles:20260321T183000
DTEND;TZID=America/Los_Angeles:20260321T210000
DTSTAMP:20260422T050909
CREATED:20260306T171206Z
LAST-MODIFIED:20260317T014100Z
UID:10002720-1774117800-1774126800@d57tm.org
SUMMARY:“Voices That Move a Room” - Division E International and Table Topics Speech Contest
DESCRIPTION:VOICES THAT MOVE A ROOM \nOn March 21\, experience an evening where words inspire\, stories captivate\, and ideas take center stage. \nSpeakers from across the Tri-Valley — Livermore\, Dublin\, Pleasanton\, and San Ramon — will gather for a live speaking competition showcasing powerful storytelling and quick-thinking brilliance. Watch as contestants deliver prepared speeches in the International Speech Contest and rise to the challenge of the Table Topics Contest\, where they must respond to a surprise question with no preparation. \nFunctionaries and Contestants\, please check in at 6:00 pm. \nThis is a potluck event\, so if you plan to attend in person\, bringing a snack to share is appreciated. \n📅 March 21\, 2026 (add to My Calendar .ics) \n⏰ 6:30 PM – 9:00 PM \n📍 Lafayette Christian Church \nHosted by Toastmasters International\, the world’s leading organization for public speaking and leadership development. \n For those unable to attend in person\, the contest will be live-streamed here
URL:https://d57tm.org/event/voices-that-move-a-room-division-e-international-and-table-topics-speech-contest
LOCATION:Lafayette Christian Church\, 584 Glenside Drive\, Lafayette\, CA\, 94549\, United States
CATEGORIES:Club Events,Contest
ORGANIZER;CN="Nethara Gamage":MAILTO:netharagamage20@gmail.com
END:VEVENT
BEGIN:VEVENT
DTSTART;TZID=America/Los_Angeles:20260224T183000
DTEND;TZID=America/Los_Angeles:20260224T210000
DTSTAMP:20260422T050909
CREATED:20260201T034935Z
LAST-MODIFIED:20260201T034935Z
UID:10002699-1771957800-1771966800@d57tm.org
SUMMARY:Area contest E19 and E28
DESCRIPTION:Dear Toastmasters\, \nGet ready for an evening of inspiration\, learning\, and connection! \nYou are warmly invited to attend the International and Table Topics Speech Contest of Areas E19 & E28​ an event that truly captures the spirit of Toastmasters. \nThis contest is more than just a competition. It’s an opportunity to: \n•  Witness exceptional speakers deliver powerful\, thought-provoking speeches\n•  Meet and network with Toastmasters​ from across our areas\n• Learn new techniques and gain inspiration to elevate your own speaking journey\n•  Celebrate growth\, courage\, and excellence​ in a supportive community \nWhether you are a seasoned Toastmaster or just starting out\, this event will leave you motivated\, inspired\, and proud to be part of Toastmasters. \n Date: 24th February 2026\n Time:​ 6:30 PM – 9:00 PM (PT)\n Venue:​ 4530 Sandalwood Dr\, Club House\, Pleasanton\, CA 94588 \n\n​ zoom link : https://us06web.zoom.us/j/88370428713?pwd=5Esp54GHLXVjBJPpfXnTdmaPpgfrhi.1\n\n​    Meeting ID: 883 7042 8713 \n​    Passcode: E19E28 \n\nCome support our speakers\, cheer on excellence\, and immerse yourself in an unforgettable Toastmasters experience. Your presence will make the evening even more special. \nWe truly hope to see you there! \n 
URL:https://d57tm.org/event/area-contest-e19-and-e28
LOCATION:4530 Sandalwood Dr\, 4530 Sandalwood Drive\, Pleasanton\, CA\, 94588\, United States
CATEGORIES:Contest
ORGANIZER;CN="Nethara Gamage":MAILTO:netharagamage20@gmail.com
END:VEVENT
END:VCALENDAR